BEGIN:VCALENDAR
VERSION:2.0
PRODID:-//Coffs Harbour and District Local Aboriginal Land Council - ECPv5.2.0//NONSGML v1.0//EN
CALSCALE:GREGORIAN
METHOD:PUBLISH
X-WR-CALNAME:Coffs Harbour and District Local Aboriginal Land Council
X-ORIGINAL-URL:https://coffsharbourlalc.com.au
X-WR-CALDESC:Events for Coffs Harbour and District Local Aboriginal Land Council
BEGIN:VTIMEZONE
TZID:Australia/Sydney
BEGIN:STANDARD
TZOFFSETFROM:+1100
TZOFFSETTO:+1000
TZNAME:AEST
DTSTART:20200404T160000
END:STANDARD
BEGIN:DAYLIGHT
TZOFFSETFROM:+1000
TZOFFSETTO:+1100
TZNAME:AEDT
DTSTART:20201003T160000
END:DAYLIGHT
END:VTIMEZONE
BEGIN:VEVENT
DTSTART;TZID=Australia/Sydney:20200928T100000
DTEND;TZID=Australia/Sydney:20200928T130000
DTSTAMP:20260420T173007
CREATED:20200921T233010Z
LAST-MODIFIED:20200921T233010Z
UID:3046-1601287200-1601298000@coffsharbourlalc.com.au
SUMMARY:Art & Movie Day ??️?️
DESCRIPTION:Join us for an Arts & Movie Day at the Grace Roberts Community Hall on Monday 28th September 2020.\nWe will provide the Art Materials\, Movies and Lunch. All you have to do is rock up \nSpots are limited so please contact us to reserve your spot!
URL:https://coffsharbourlalc.com.au/event/art-movie-day-%f0%9f%8e%a8%f0%9f%93%bd%ef%b8%8f%f0%9f%96%8d%ef%b8%8f/
LOCATION:Grace Roberts Community Hall\, 2/26 Park Ave\, coffs harbour\, NSW\, 2450\, Australia
GEO:-30.2988577;153.1150852
X-APPLE-STRUCTURED-LOCATION;VALUE=URI;X-ADDRESS=Grace Roberts Community Hall 2/26 Park Ave coffs harbour NSW 2450 Australia;X-APPLE-RADIUS=500;X-TITLE=2/26 Park Ave:geo:153.1150852,-30.2988577
END:VEVENT
END:VCALENDAR