BEGIN:VCALENDAR
VERSION:2.0
PRODID:-//Coffs Harbour and District Local Aboriginal Land Council - ECPv5.2.0//NONSGML v1.0//EN
CALSCALE:GREGORIAN
METHOD:PUBLISH
X-WR-CALNAME:Coffs Harbour and District Local Aboriginal Land Council
X-ORIGINAL-URL:https://coffsharbourlalc.com.au
X-WR-CALDESC:Events for Coffs Harbour and District Local Aboriginal Land Council
BEGIN:VTIMEZONE
TZID:Australia/Sydney
BEGIN:STANDARD
TZOFFSETFROM:+1100
TZOFFSETTO:+1000
TZNAME:AEST
DTSTART:20180331T160000
END:STANDARD
BEGIN:DAYLIGHT
TZOFFSETFROM:+1000
TZOFFSETTO:+1100
TZNAME:AEDT
DTSTART:20181006T160000
END:DAYLIGHT
END:VTIMEZONE
BEGIN:VEVENT
DTSTART;TZID=Australia/Sydney:20181030T100000
DTEND;TZID=Australia/Sydney:20181030T120000
DTSTAMP:20260425T030214
CREATED:20181018T224836Z
LAST-MODIFIED:20181018T230446Z
UID:886-1540893600-1540900800@coffsharbourlalc.com.au
SUMMARY:CHAI Meeting
DESCRIPTION:Coffs Harbour Aboriginal Interagency (CHAI) Meeting is to be held every Last Tuesday of the Month. \nThis meeting is a perfect opportunity for community services to network. \nThey are always held at Grace Roberts Community Hall\, Wongala Estate\, Coffs Harbour. \nFor More Information please contact us on 02 6652 8740
URL:https://coffsharbourlalc.com.au/event/chai-meeting/2018-10-30/
LOCATION:Grace Roberts Community Hall\, 2/26 Park Ave\, coffs harbour\, NSW\, 2450\, Australia
ORGANIZER;CN="Lachlan%20Skinner":MAILTO:community@coffsharbourlalc.com.au
GEO:-30.2988577;153.1150852
X-APPLE-STRUCTURED-LOCATION;VALUE=URI;X-ADDRESS=Grace Roberts Community Hall 2/26 Park Ave coffs harbour NSW 2450 Australia;X-APPLE-RADIUS=500;X-TITLE=2/26 Park Ave:geo:153.1150852,-30.2988577
END:VEVENT
END:VCALENDAR