BEGIN:VCALENDAR
VERSION:2.0
PRODID:-//Coffs Harbour and District Local Aboriginal Land Council - ECPv5.2.0//NONSGML v1.0//EN
CALSCALE:GREGORIAN
METHOD:PUBLISH
X-WR-CALNAME:Coffs Harbour and District Local Aboriginal Land Council
X-ORIGINAL-URL:https://coffsharbourlalc.com.au
X-WR-CALDESC:Events for Coffs Harbour and District Local Aboriginal Land Council
BEGIN:VTIMEZONE
TZID:Australia/Sydney
BEGIN:STANDARD
TZOFFSETFROM:+1100
TZOFFSETTO:+1000
TZNAME:AEST
DTSTART:20200404T160000
END:STANDARD
BEGIN:DAYLIGHT
TZOFFSETFROM:+1000
TZOFFSETTO:+1100
TZNAME:AEDT
DTSTART:20201003T160000
END:DAYLIGHT
END:VTIMEZONE
BEGIN:VEVENT
DTSTART;TZID=Australia/Sydney:20201006T180000
DTEND;TZID=Australia/Sydney:20201006T213000
DTSTAMP:20260420T132130
CREATED:20200924T013301Z
LAST-MODIFIED:20200924T013301Z
UID:3061-1602007200-1602019800@coffsharbourlalc.com.au
SUMMARY:Cinema Under the Stars with Ready Mob
DESCRIPTION:Ready Mob joins the School Holiday Program to bring Our Young People and Families a Cinema Under the Stars Night at Galambila Aboriginal Medical Service from 6pm. There will be a BBQ Dinner\, Games and of Course Movies and Popcorn!!!
URL:https://coffsharbourlalc.com.au/event/cinema-under-the-stars-with-ready-mob/
LOCATION:Galambila AMS\, 9 Boambee Street\, Coffs Harbour\, NSW\, 2450\, Australia
END:VEVENT
END:VCALENDAR