BEGIN:VCALENDAR
VERSION:2.0
PRODID:-//Coffs Harbour and District Local Aboriginal Land Council - ECPv5.2.0//NONSGML v1.0//EN
CALSCALE:GREGORIAN
METHOD:PUBLISH
X-WR-CALNAME:Coffs Harbour and District Local Aboriginal Land Council
X-ORIGINAL-URL:https://coffsharbourlalc.com.au
X-WR-CALDESC:Events for Coffs Harbour and District Local Aboriginal Land Council
BEGIN:VTIMEZONE
TZID:Australia/Sydney
BEGIN:STANDARD
TZOFFSETFROM:+1100
TZOFFSETTO:+1000
TZNAME:AEST
DTSTART:20190406T160000
END:STANDARD
BEGIN:DAYLIGHT
TZOFFSETFROM:+1000
TZOFFSETTO:+1100
TZNAME:AEDT
DTSTART:20191005T160000
END:DAYLIGHT
END:VTIMEZONE
BEGIN:VEVENT
DTSTART;TZID=Australia/Sydney:20191029T110000
DTEND;TZID=Australia/Sydney:20191029T150000
DTSTAMP:20260421T190748
CREATED:20191027T221838Z
LAST-MODIFIED:20191027T221838Z
UID:2084-1572346800-1572361200@coffsharbourlalc.com.au
SUMMARY:Closing the Gap Consultations: Coffs Harbour
DESCRIPTION:We want to get your views about what is needed to make the lives of Aboriginal people better.\n​Your views will help to create practical action that could be included in the new National Agreement to support Aboriginal people\, communities and organisations in taking charge of their own lives and development. \n​Come along and join in the conversation! \nVenue: Pacific Bay Resort\nAddress: Cnr Pacific Hwy and Bay Drive\, Coffs Harbour NSW 2450\nWhen: Tuesday\, 29th October 2019\nTime: 11am – 3pm \nThe Closing the Gap consultations have been supported by the NSW Government.
URL:https://coffsharbourlalc.com.au/event/closing-the-gap-consultations-coffs-harbour/
LOCATION:Pacific Bay Resort\, Cnr Pacific Hwy and Bay Drive\, Coffs Harbour\, New South Wales\, 2450\, Australia
ORGANIZER;CN="NSWALC%20Closing%20the%20Gap":MAILTO:caposecretariat@alc.org.au
END:VEVENT
END:VCALENDAR