BEGIN:VCALENDAR
VERSION:2.0
PRODID:-//Coffs Harbour and District Local Aboriginal Land Council - ECPv5.2.0//NONSGML v1.0//EN
CALSCALE:GREGORIAN
METHOD:PUBLISH
X-WR-CALNAME:Coffs Harbour and District Local Aboriginal Land Council
X-ORIGINAL-URL:https://coffsharbourlalc.com.au
X-WR-CALDESC:Events for Coffs Harbour and District Local Aboriginal Land Council
BEGIN:VTIMEZONE
TZID:Australia/Sydney
BEGIN:STANDARD
TZOFFSETFROM:+1100
TZOFFSETTO:+1000
TZNAME:AEST
DTSTART:20180331T160000
END:STANDARD
BEGIN:DAYLIGHT
TZOFFSETFROM:+1000
TZOFFSETTO:+1100
TZNAME:AEDT
DTSTART:20181006T160000
END:DAYLIGHT
END:VTIMEZONE
BEGIN:VEVENT
DTSTART;TZID=Australia/Sydney:20181009T140000
DTEND;TZID=Australia/Sydney:20181009T160000
DTSTAMP:20260425T030110
CREATED:20180927T225552Z
LAST-MODIFIED:20180927T225552Z
UID:648-1539093600-1539100800@coffsharbourlalc.com.au
SUMMARY:Coffs Harbour Cultural Protocols Focus Group Meeting
DESCRIPTION:Coffs Harbour City Council has engaged the services of Murawin\, an Indigenous consultancy\, to undertake the development of a Coffs Harbour City Council Aboriginal and Torres Strait Islander Cultural Protocols document. We are undertaking a series of Community Focus Groups to help inform the development of these Protocols. Aboriginal and/or Torres Strait Islander people that have cultural knowledge and/or connection to the Coffs Harbour local government area are welcome to attend. \nOther Meetings include: \n10 October 2018\nNorthern Coffs Harbour\nLocation to be confirmed.\n9:00am-11:00am \nand \n10 October 2018\nToormina Community Centre\n171 Toormina Road\, Toormina\n1:00pm-3:00pm \n  \nTo RSVP\, please contact Murawin at or\ncall 0417 405 727\nPlease note details for the northern Focus Group will be confirmed shortly and further information sent out.
URL:https://coffsharbourlalc.com.au/event/coffs-harbour-cultural-protocols-focus-group-meeting/
LOCATION:Grace Roberts Community Hall\, 2/26 Park Ave\, coffs harbour\, NSW\, 2450\, Australia
ORGANIZER;CN="Debbie%20Hoger":MAILTO:debbie@murawin.com.au
GEO:-30.2988577;153.1150852
X-APPLE-STRUCTURED-LOCATION;VALUE=URI;X-ADDRESS=Grace Roberts Community Hall 2/26 Park Ave coffs harbour NSW 2450 Australia;X-APPLE-RADIUS=500;X-TITLE=2/26 Park Ave:geo:153.1150852,-30.2988577
END:VEVENT
END:VCALENDAR