BEGIN:VCALENDAR
VERSION:2.0
PRODID:-//Coffs Harbour and District Local Aboriginal Land Council - ECPv5.2.0//NONSGML v1.0//EN
CALSCALE:GREGORIAN
METHOD:PUBLISH
X-WR-CALNAME:Coffs Harbour and District Local Aboriginal Land Council
X-ORIGINAL-URL:https://coffsharbourlalc.com.au
X-WR-CALDESC:Events for Coffs Harbour and District Local Aboriginal Land Council
BEGIN:VTIMEZONE
TZID:Australia/Sydney
BEGIN:STANDARD
TZOFFSETFROM:+1100
TZOFFSETTO:+1000
TZNAME:AEST
DTSTART:20200404T160000
END:STANDARD
BEGIN:DAYLIGHT
TZOFFSETFROM:+1000
TZOFFSETTO:+1100
TZNAME:AEDT
DTSTART:20201003T160000
END:DAYLIGHT
END:VTIMEZONE
BEGIN:VEVENT
DTSTART;TZID=Australia/Sydney:20200926T100000
DTEND;TZID=Australia/Sydney:20200927T140000
DTSTAMP:20260422T190420
CREATED:20200825T061250Z
LAST-MODIFIED:20200825T061808Z
UID:2943-1601114400-1601215200@coffsharbourlalc.com.au
SUMMARY:DEADLY FACTORS AUDITIONS! ?????
DESCRIPTION:DEADLY FACTOR is BACK!! \n \nRunning COVID-19 Safe Auditions for Community on 26th and 27th of September 2020 at the Grace Roberts Community Hall from 10am till 1pm on both days. \nWe are also able to host ZOOM Auditions or for you to Record a 90 Sec Audition and send to the Coffs Harbour LALC Facebook via Inbox. \n\nFor More Information please contact the Coffs Harbour and District LALC on 02 6652 8740
URL:https://coffsharbourlalc.com.au/event/deadly-factors-auditions/
LOCATION:Grace Roberts Community Hall\, 2/26 Park Ave\, coffs harbour\, NSW\, 2450\, Australia
GEO:-30.2988577;153.1150852
X-APPLE-STRUCTURED-LOCATION;VALUE=URI;X-ADDRESS=Grace Roberts Community Hall 2/26 Park Ave coffs harbour NSW 2450 Australia;X-APPLE-RADIUS=500;X-TITLE=2/26 Park Ave:geo:153.1150852,-30.2988577
END:VEVENT
END:VCALENDAR