BEGIN:VCALENDAR
VERSION:2.0
PRODID:-//Coffs Harbour and District Local Aboriginal Land Council - ECPv5.2.0//NONSGML v1.0//EN
CALSCALE:GREGORIAN
METHOD:PUBLISH
X-WR-CALNAME:Coffs Harbour and District Local Aboriginal Land Council
X-ORIGINAL-URL:https://coffsharbourlalc.com.au
X-WR-CALDESC:Events for Coffs Harbour and District Local Aboriginal Land Council
BEGIN:VTIMEZONE
TZID:Australia/Sydney
BEGIN:STANDARD
TZOFFSETFROM:+1100
TZOFFSETTO:+1000
TZNAME:AEST
DTSTART:20180331T160000
END:STANDARD
BEGIN:DAYLIGHT
TZOFFSETFROM:+1000
TZOFFSETTO:+1100
TZNAME:AEDT
DTSTART:20181006T160000
END:DAYLIGHT
END:VTIMEZONE
BEGIN:VEVENT
DTSTART;TZID=Australia/Sydney:20181025T110000
DTEND;TZID=Australia/Sydney:20181025T110000
DTSTAMP:20260425T062535
CREATED:20180927T223855Z
LAST-MODIFIED:20180927T223855Z
UID:644-1540465200-1540465200@coffsharbourlalc.com.au
SUMMARY:Dorrigo Community BBQ
DESCRIPTION:This Mental Health Month Event will be hosted by Bellingen Shire Council and Free BBQ lunch and entertainment etc \nAny services want to have an info stall then please have set up by 11am on the day – no need to notify organisers but bring own trestle tables etc
URL:https://coffsharbourlalc.com.au/event/dorrigo-community-bbq/
LOCATION:Danger Falls\,\, Coramba Road\, Dorrigo\, NSW\, 2450\, Australia
ORGANIZER;CN="Bellingen%20Shire%20Council":MAILTO:council@bellingen.nsw.gov.au
GEO:-30.3233022;152.7143427
X-APPLE-STRUCTURED-LOCATION;VALUE=URI;X-ADDRESS=Danger Falls Coramba Road Dorrigo NSW 2450 Australia;X-APPLE-RADIUS=500;X-TITLE=Coramba Road:geo:152.7143427,-30.3233022
END:VEVENT
END:VCALENDAR