BEGIN:VCALENDAR
VERSION:2.0
PRODID:-//Coffs Harbour and District Local Aboriginal Land Council - ECPv5.2.0//NONSGML v1.0//EN
CALSCALE:GREGORIAN
METHOD:PUBLISH
X-WR-CALNAME:Coffs Harbour and District Local Aboriginal Land Council
X-ORIGINAL-URL:https://coffsharbourlalc.com.au
X-WR-CALDESC:Events for Coffs Harbour and District Local Aboriginal Land Council
BEGIN:VTIMEZONE
TZID:Australia/Sydney
BEGIN:STANDARD
TZOFFSETFROM:+1100
TZOFFSETTO:+1000
TZNAME:AEST
DTSTART:20180331T160000
END:STANDARD
BEGIN:DAYLIGHT
TZOFFSETFROM:+1000
TZOFFSETTO:+1100
TZNAME:AEDT
DTSTART:20181006T160000
END:DAYLIGHT
END:VTIMEZONE
BEGIN:VEVENT
DTSTART;TZID=Australia/Sydney:20181031T180000
DTEND;TZID=Australia/Sydney:20181031T200000
DTSTAMP:20260425T025840
CREATED:20181011T093315Z
LAST-MODIFIED:20181011T093315Z
UID:843-1541008800-1541016000@coffsharbourlalc.com.au
SUMMARY:Halloween Kids Disco
DESCRIPTION:On a night that all the kids like to go out and go door knocking and “Trick or Treat” we thought is would be much more FUN and safer for our Kiddies to be all together and throw a Disco Event. \nThe Night will include a FREE BBQ Dinner\, Games\, Music\, Prizes and Best Dressed Halloween Costume! Ohhh and not to forget plenty of LOLLIES!! \nThis Event is FREE and we encourage the whole community to attend! \nWe encourage you to RSVP via contacting the LALC Office on 02 6652 8740. \n  \nPS PARENTS MUST ACCOMPANY CHILDREN.
URL:https://coffsharbourlalc.com.au/event/halloween-kids-disco/
LOCATION:Grace Roberts Community Hall\, 2/26 Park Ave\, coffs harbour\, NSW\, 2450\, Australia
CATEGORIES:Community Event
ORGANIZER;CN="Lachlan%20Skinner":MAILTO:community@coffsharbourlalc.com.au
GEO:-30.2988577;153.1150852
X-APPLE-STRUCTURED-LOCATION;VALUE=URI;X-ADDRESS=Grace Roberts Community Hall 2/26 Park Ave coffs harbour NSW 2450 Australia;X-APPLE-RADIUS=500;X-TITLE=2/26 Park Ave:geo:153.1150852,-30.2988577
END:VEVENT
END:VCALENDAR