BEGIN:VCALENDAR
VERSION:2.0
PRODID:-//Coffs Harbour and District Local Aboriginal Land Council - ECPv5.2.0//NONSGML v1.0//EN
CALSCALE:GREGORIAN
METHOD:PUBLISH
X-WR-CALNAME:Coffs Harbour and District Local Aboriginal Land Council
X-ORIGINAL-URL:https://coffsharbourlalc.com.au
X-WR-CALDESC:Events for Coffs Harbour and District Local Aboriginal Land Council
BEGIN:VTIMEZONE
TZID:Australia/Sydney
BEGIN:STANDARD
TZOFFSETFROM:+1100
TZOFFSETTO:+1000
TZNAME:AEST
DTSTART:20200404T160000
END:STANDARD
BEGIN:DAYLIGHT
TZOFFSETFROM:+1000
TZOFFSETTO:+1100
TZNAME:AEDT
DTSTART:20201003T160000
END:DAYLIGHT
END:VTIMEZONE
BEGIN:VEVENT
DTSTART;TZID=Australia/Sydney:20200123T080000
DTEND;TZID=Australia/Sydney:20200123T153000
DTSTAMP:20260420T033913
CREATED:20200113T234046Z
LAST-MODIFIED:20200113T234046Z
UID:2246-1579766400-1579793400@coffsharbourlalc.com.au
SUMMARY:Junior Darrunda Wajaarr Ranger Day
DESCRIPTION:This Program branches off our commitment to Caring for Country. Its all about engaging our Young People in the activities of our Darrunda Wajaarr Land and Sea Management Team. \nThe Day will involve a Turtle Release with Dolphin Marine Conservation Park\, Lunch and a visit to the Solitary Islands Aquarium. \nTransport is available\, with only 20 Spots Available. \nIf you require any support to enable inclusive access to our program\, please advise us upon booking so that we can ensure this support is available on the day. \nFor more information or to RSVP please contact Coffs Harbour and District LALC on 02 6652 8740
URL:https://coffsharbourlalc.com.au/event/junior-darrunda-wajaarr-ranger-day/
LOCATION:Coffs Harbour and District LALC\, 2 Wongala Estate\, Coffs Harbour\, NSW\, 2450\, Australia
ATTACH;FMTTYPE=image/png:https://coffsharbourlalc.com.au/wp-content/uploads/2020/01/Coffs-Harbour-and-District-LALC-presents-3.png
ORGANIZER;CN="Lachlan%20Skinner":MAILTO:community@coffsharbourlalc.com.au
GEO:-30.2798726;153.1323352
X-APPLE-STRUCTURED-LOCATION;VALUE=URI;X-ADDRESS=Coffs Harbour and District LALC 2 Wongala Estate Coffs Harbour NSW 2450 Australia;X-APPLE-RADIUS=500;X-TITLE=2 Wongala Estate:geo:153.1323352,-30.2798726
END:VEVENT
END:VCALENDAR