BEGIN:VCALENDAR
VERSION:2.0
PRODID:-//Coffs Harbour and District Local Aboriginal Land Council - ECPv5.2.0//NONSGML v1.0//EN
CALSCALE:GREGORIAN
METHOD:PUBLISH
X-WR-CALNAME:Coffs Harbour and District Local Aboriginal Land Council
X-ORIGINAL-URL:https://coffsharbourlalc.com.au
X-WR-CALDESC:Events for Coffs Harbour and District Local Aboriginal Land Council
BEGIN:VTIMEZONE
TZID:Australia/Sydney
BEGIN:STANDARD
TZOFFSETFROM:+1100
TZOFFSETTO:+1000
TZNAME:AEST
DTSTART:20200404T160000
END:STANDARD
BEGIN:DAYLIGHT
TZOFFSETFROM:+1000
TZOFFSETTO:+1100
TZNAME:AEDT
DTSTART:20201003T160000
END:DAYLIGHT
END:VTIMEZONE
BEGIN:VEVENT
DTSTART;TZID=Australia/Sydney:20201008T090000
DTEND;TZID=Australia/Sydney:20201008T140000
DTSTAMP:20260420T165811
CREATED:20200924T013507Z
LAST-MODIFIED:20200924T013507Z
UID:3065-1602147600-1602165600@coffsharbourlalc.com.au
SUMMARY:Junior Ranger Day
DESCRIPTION:We are holding a Junior Ranger Day this School Holidays. Children that are interested in being on country\, working with our Darrunda Wajaarr Land and Sea Rangers and learning about what we can do to protect and care for Country. This Day will kick off at 9am on the 8th October 2020 at the Park next to Dolphin Marine Magic. For more information or to secure your spot please call us 02 6652 8740.
URL:https://coffsharbourlalc.com.au/event/junior-ranger-day-2/
LOCATION:Dolphine Marine Park\, 65 Orlando Street\, Coffs Harbour\, NSW\, 2450\, Australia
END:VEVENT
END:VCALENDAR