BEGIN:VCALENDAR
VERSION:2.0
PRODID:-//Coffs Harbour and District Local Aboriginal Land Council - ECPv5.2.0//NONSGML v1.0//EN
CALSCALE:GREGORIAN
METHOD:PUBLISH
X-WR-CALNAME:Coffs Harbour and District Local Aboriginal Land Council
X-ORIGINAL-URL:https://coffsharbourlalc.com.au
X-WR-CALDESC:Events for Coffs Harbour and District Local Aboriginal Land Council
BEGIN:VTIMEZONE
TZID:Australia/Sydney
BEGIN:STANDARD
TZOFFSETFROM:+1100
TZOFFSETTO:+1000
TZNAME:AEST
DTSTART:20190406T160000
END:STANDARD
BEGIN:DAYLIGHT
TZOFFSETFROM:+1000
TZOFFSETTO:+1100
TZNAME:AEDT
DTSTART:20191005T160000
END:DAYLIGHT
END:VTIMEZONE
BEGIN:VEVENT
DTSTART;TZID=Australia/Sydney:20191003T090000
DTEND;TZID=Australia/Sydney:20191003T160000
DTSTAMP:20260421T041424
CREATED:20190906T034004Z
LAST-MODIFIED:20190906T034246Z
UID:1637-1570093200-1570118400@coffsharbourlalc.com.au
SUMMARY:Junior Ranger Day
DESCRIPTION:Spend the day with our Darrunda Wajaarr Rangers. Learn a bit about the work they do and Lunch at Dorrigo National Park.\nTransport is available for children aged 7 – 16 years old but spots are limited. \nAny other community interested in attending can. They will just need to arrange their own transport \nFor more information or to RSVP please contact Coffs Harbour and District LALC on 02 6652 8740
URL:https://coffsharbourlalc.com.au/event/junior-ranger-day/
LOCATION:Coffs Harbour and District LALC\, 2 Wongala Estate\, Coffs Harbour\, NSW\, 2450\, Australia
ORGANIZER;CN="Lachlan%20Skinner":MAILTO:community@coffsharbourlalc.com.au
GEO:-30.2798726;153.1323352
X-APPLE-STRUCTURED-LOCATION;VALUE=URI;X-ADDRESS=Coffs Harbour and District LALC 2 Wongala Estate Coffs Harbour NSW 2450 Australia;X-APPLE-RADIUS=500;X-TITLE=2 Wongala Estate:geo:153.1323352,-30.2798726
END:VEVENT
END:VCALENDAR