BEGIN:VCALENDAR
VERSION:2.0
PRODID:-//Coffs Harbour and District Local Aboriginal Land Council - ECPv5.2.0//NONSGML v1.0//EN
CALSCALE:GREGORIAN
METHOD:PUBLISH
X-WR-CALNAME:Coffs Harbour and District Local Aboriginal Land Council
X-ORIGINAL-URL:https://coffsharbourlalc.com.au
X-WR-CALDESC:Events for Coffs Harbour and District Local Aboriginal Land Council
BEGIN:VTIMEZONE
TZID:Australia/Sydney
BEGIN:STANDARD
TZOFFSETFROM:+1100
TZOFFSETTO:+1000
TZNAME:AEST
DTSTART:20200404T160000
END:STANDARD
BEGIN:DAYLIGHT
TZOFFSETFROM:+1000
TZOFFSETTO:+1100
TZNAME:AEDT
DTSTART:20201003T160000
END:DAYLIGHT
END:VTIMEZONE
BEGIN:VEVENT
DTSTART;TZID=Australia/Sydney:20201001T180000
DTEND;TZID=Australia/Sydney:20201001T200000
DTSTAMP:20260420T153559
CREATED:20200921T232402Z
LAST-MODIFIED:20200921T232402Z
UID:3040-1601575200-1601582400@coffsharbourlalc.com.au
SUMMARY:LOUNGE ROOM TRIVIA
DESCRIPTION:LOUNGE ROOM TRIVIA is Back! The Coffs Harbour and District LALC will be holding a Lounge Room Trivia this School Holidays! Do you know you Netflix\, Movies\, and TV Shows? Join us on Thursday 1st October for Lounge Room Trivia via FACEBOOK LIVE
URL:https://coffsharbourlalc.com.au/event/lounge-room-trivia-2/
LOCATION:Facebook Live
END:VEVENT
END:VCALENDAR