BEGIN:VCALENDAR
VERSION:2.0
PRODID:-//Coffs Harbour and District Local Aboriginal Land Council - ECPv5.2.0//NONSGML v1.0//EN
CALSCALE:GREGORIAN
METHOD:PUBLISH
X-WR-CALNAME:Coffs Harbour and District Local Aboriginal Land Council
X-ORIGINAL-URL:https://coffsharbourlalc.com.au
X-WR-CALDESC:Events for Coffs Harbour and District Local Aboriginal Land Council
BEGIN:VTIMEZONE
TZID:Australia/Sydney
BEGIN:STANDARD
TZOFFSETFROM:+1100
TZOFFSETTO:+1000
TZNAME:AEST
DTSTART:20200404T160000
END:STANDARD
BEGIN:DAYLIGHT
TZOFFSETFROM:+1000
TZOFFSETTO:+1100
TZNAME:AEDT
DTSTART:20201003T160000
END:DAYLIGHT
END:VTIMEZONE
BEGIN:VEVENT
DTSTART;TZID=Australia/Sydney:20201111T180000
DTEND;TZID=Australia/Sydney:20201111T190000
DTSTAMP:20260420T152916
CREATED:20201030T031553Z
LAST-MODIFIED:20201030T031553Z
UID:3182-1605117600-1605121200@coffsharbourlalc.com.au
SUMMARY:Lounge Room Trivia - NAIDOC THEME ??❤️
DESCRIPTION:Coffs Harbour LALC will be holding it’s 3rd Lounge Room Trivia Session during NAIDOC 2020.\nLounge Room Trivia is a Virtual Facebook Live Event where we can do Trivia in the Comfort of our own home.\nThis will be on Wednesday 11th November from 6pm.\nFor More Information please call Coffs LALC on 02 6652 8740  \n??❤️
URL:https://coffsharbourlalc.com.au/event/lounge-room-trivia-naidoc-theme-%f0%9f%96%a4%f0%9f%92%9b%e2%9d%a4%ef%b8%8f/
END:VEVENT
END:VCALENDAR