BEGIN:VCALENDAR
VERSION:2.0
PRODID:-//Coffs Harbour and District Local Aboriginal Land Council - ECPv5.2.0//NONSGML v1.0//EN
CALSCALE:GREGORIAN
METHOD:PUBLISH
X-WR-CALNAME:Coffs Harbour and District Local Aboriginal Land Council
X-ORIGINAL-URL:https://coffsharbourlalc.com.au
X-WR-CALDESC:Events for Coffs Harbour and District Local Aboriginal Land Council
BEGIN:VTIMEZONE
TZID:Australia/Sydney
BEGIN:STANDARD
TZOFFSETFROM:+1100
TZOFFSETTO:+1000
TZNAME:AEST
DTSTART:20200404T160000
END:STANDARD
BEGIN:DAYLIGHT
TZOFFSETFROM:+1000
TZOFFSETTO:+1100
TZNAME:AEDT
DTSTART:20201003T160000
END:DAYLIGHT
END:VTIMEZONE
BEGIN:VEVENT
DTSTART;TZID=Australia/Sydney:20200710T180000
DTEND;TZID=Australia/Sydney:20200710T200000
DTSTAMP:20260420T220446
CREATED:20200527T043717Z
LAST-MODIFIED:20200602T053154Z
UID:2442-1594404000-1594411200@coffsharbourlalc.com.au
SUMMARY:Lounge Room Trivia
DESCRIPTION:Lounge Room Trivia  \n\nWith Coffs Harbour LALC\nVia Zoom from 6pm\nThis session includes an interactive online Gathering for Families to come together and be apart of the Zoom Trivia Night.\n\n  \nFor more information about the Calendar of Activities please contact Lachlan Skinner on 0499 902 618 or email community@coffsharbourlalc.com.au
URL:https://coffsharbourlalc.com.au/event/lounge-room-trivia/
LOCATION:Zoom Live
ATTACH;FMTTYPE=image/png:https://coffsharbourlalc.com.au/wp-content/uploads/2020/05/lounge-room-trivia.png
ORGANIZER;CN="Lachlan%20Skinner":MAILTO:community@coffsharbourlalc.com.au
END:VEVENT
END:VCALENDAR