BEGIN:VCALENDAR
VERSION:2.0
PRODID:-//Coffs Harbour and District Local Aboriginal Land Council - ECPv5.2.0//NONSGML v1.0//EN
CALSCALE:GREGORIAN
METHOD:PUBLISH
X-WR-CALNAME:Coffs Harbour and District Local Aboriginal Land Council
X-ORIGINAL-URL:https://coffsharbourlalc.com.au
X-WR-CALDESC:Events for Coffs Harbour and District Local Aboriginal Land Council
BEGIN:VTIMEZONE
TZID:Australia/Sydney
BEGIN:STANDARD
TZOFFSETFROM:+1100
TZOFFSETTO:+1000
TZNAME:AEST
DTSTART:20200404T160000
END:STANDARD
BEGIN:DAYLIGHT
TZOFFSETFROM:+1000
TZOFFSETTO:+1100
TZNAME:AEDT
DTSTART:20201003T160000
END:DAYLIGHT
END:VTIMEZONE
BEGIN:VEVENT
DTSTART;TZID=Australia/Sydney:20201114T190000
DTEND;TZID=Australia/Sydney:20201114T213000
DTSTAMP:20260420T133132
CREATED:20201030T031847Z
LAST-MODIFIED:20201030T031847Z
UID:3185-1605380400-1605389400@coffsharbourlalc.com.au
SUMMARY:Movies Under the Stars ???️
DESCRIPTION:Coffs Harbour LALC and Ready Mob will be holding Movies Under the Stars Night for Community.\nThis is a FREE Family Fun Event with Movies and BBQ Dinner for all.\nMovie will be announced closer to the date.\nFor More Information or to BOOK please call Coffs LALC on 02 6652 8740
URL:https://coffsharbourlalc.com.au/event/movies-under-the-stars-%f0%9f%8c%9f%f0%9f%8e%a5%f0%9f%93%bd%ef%b8%8f/
LOCATION:Galambila AMS\, 9 Boambee Street\, Coffs Harbour\, NSW\, 2450\, Australia
END:VEVENT
END:VCALENDAR