BEGIN:VCALENDAR
VERSION:2.0
PRODID:-//Coffs Harbour and District Local Aboriginal Land Council - ECPv5.2.0//NONSGML v1.0//EN
CALSCALE:GREGORIAN
METHOD:PUBLISH
X-WR-CALNAME:Coffs Harbour and District Local Aboriginal Land Council
X-ORIGINAL-URL:https://coffsharbourlalc.com.au
X-WR-CALDESC:Events for Coffs Harbour and District Local Aboriginal Land Council
BEGIN:VTIMEZONE
TZID:Australia/Sydney
BEGIN:STANDARD
TZOFFSETFROM:+1100
TZOFFSETTO:+1000
TZNAME:AEST
DTSTART:20190406T160000
END:STANDARD
BEGIN:DAYLIGHT
TZOFFSETFROM:+1000
TZOFFSETTO:+1100
TZNAME:AEDT
DTSTART:20191005T160000
END:DAYLIGHT
END:VTIMEZONE
BEGIN:VEVENT
DTSTART;VALUE=DATE:20190922
DTEND;VALUE=DATE:20190923
DTSTAMP:20260421T102050
CREATED:20190806T044315Z
LAST-MODIFIED:20190806T044315Z
UID:1539-1569110400-1569196799@coffsharbourlalc.com.au
SUMMARY:Netball NSW Koori Gala Day
DESCRIPTION:The Event Aims to increase indigenous participation in sport and recreation in a family fun\, competitive environment and can be used as a training day prior to the Koori games in Charlsetown. \n5 Divisions: junior mixed 12 & U\, Junior Girls 12-15\, Junior Mixed 12-15\, Open Women’s\, Opens Mixed \nPlease contact Gill Cotter for Nomination forms 0450603220
URL:https://coffsharbourlalc.com.au/event/netball-nsw-koori-gala-day/
LOCATION:Netball Courts Coffs Harbour
END:VEVENT
END:VCALENDAR