BEGIN:VCALENDAR
VERSION:2.0
PRODID:-//Coffs Harbour and District Local Aboriginal Land Council - ECPv5.2.0//NONSGML v1.0//EN
CALSCALE:GREGORIAN
METHOD:PUBLISH
X-WR-CALNAME:Coffs Harbour and District Local Aboriginal Land Council
X-ORIGINAL-URL:https://coffsharbourlalc.com.au
X-WR-CALDESC:Events for Coffs Harbour and District Local Aboriginal Land Council
BEGIN:VTIMEZONE
TZID:Australia/Sydney
BEGIN:STANDARD
TZOFFSETFROM:+1100
TZOFFSETTO:+1000
TZNAME:AEST
DTSTART:20180331T160000
END:STANDARD
BEGIN:DAYLIGHT
TZOFFSETFROM:+1000
TZOFFSETTO:+1100
TZNAME:AEDT
DTSTART:20181006T160000
END:DAYLIGHT
END:VTIMEZONE
BEGIN:VEVENT
DTSTART;TZID=Australia/Sydney:20180928T080000
DTEND;TZID=Australia/Sydney:20181001T170000
DTSTAMP:20260425T045926
CREATED:20180927T004819Z
LAST-MODIFIED:20180927T004819Z
UID:623-1538121600-1538413200@coffsharbourlalc.com.au
SUMMARY:NSW Koori Knockout
DESCRIPTION:NSW Koori Rugby League Knockout Carnival is one of the biggest Aboriginal gatherings in Australia. The very first knockout was held at Camdenville Oval\, St Peters\, on the October long weekend of 1971 with 8 participating teams. The winning teams gains the right to hold the next knockout. Organisers created the knockout as an alternative more accessible to Indigenous players than the state rugby league.
URL:https://coffsharbourlalc.com.au/event/nsw-koori-knockout/
LOCATION:Dubbo\, NSW\, Dubbo\, NSW\, Australia
ORGANIZER;CN="Newcastle%20Yowies":MAILTO:newcastleyowies@gmail.com
GEO:-32.2315018;148.6329645
END:VEVENT
END:VCALENDAR