BEGIN:VCALENDAR
VERSION:2.0
PRODID:-//Coffs Harbour and District Local Aboriginal Land Council - ECPv5.2.0//NONSGML v1.0//EN
CALSCALE:GREGORIAN
METHOD:PUBLISH
X-WR-CALNAME:Coffs Harbour and District Local Aboriginal Land Council
X-ORIGINAL-URL:https://coffsharbourlalc.com.au
X-WR-CALDESC:Events for Coffs Harbour and District Local Aboriginal Land Council
BEGIN:VTIMEZONE
TZID:Australia/Sydney
BEGIN:STANDARD
TZOFFSETFROM:+1100
TZOFFSETTO:+1000
TZNAME:AEST
DTSTART:20200404T160000
END:STANDARD
BEGIN:DAYLIGHT
TZOFFSETFROM:+1000
TZOFFSETTO:+1100
TZNAME:AEDT
DTSTART:20201003T160000
END:DAYLIGHT
END:VTIMEZONE
BEGIN:VEVENT
DTSTART;TZID=Australia/Sydney:20200910T153000
DTEND;TZID=Australia/Sydney:20200910T180000
DTSTAMP:20260421T010107
CREATED:20200910T004107Z
LAST-MODIFIED:20200910T004321Z
UID:3015-1599751800-1599760800@coffsharbourlalc.com.au
SUMMARY:OneMob Radio Station Brainstorm Session
DESCRIPTION:? This Workshop will be for Community to have input into Content\, Shows and Imaging of the NEW OneMob Internet Radio Station.\n\n? An opportunity to ask questions\, brainstorm content ideas\, do audio recordings\, and more!\nBE APART OF THE CREATIVE PLANNING!
URL:https://coffsharbourlalc.com.au/event/onemob-radio-station-brainstorm-session/
LOCATION:Grace Roberts Community Hall\, 2/26 Park Ave\, coffs harbour\, NSW\, 2450\, Australia
GEO:-30.2988577;153.1150852
X-APPLE-STRUCTURED-LOCATION;VALUE=URI;X-ADDRESS=Grace Roberts Community Hall 2/26 Park Ave coffs harbour NSW 2450 Australia;X-APPLE-RADIUS=500;X-TITLE=2/26 Park Ave:geo:153.1150852,-30.2988577
END:VEVENT
END:VCALENDAR