BEGIN:VCALENDAR
VERSION:2.0
PRODID:-//Coffs Harbour and District Local Aboriginal Land Council - ECPv5.2.0//NONSGML v1.0//EN
CALSCALE:GREGORIAN
METHOD:PUBLISH
X-WR-CALNAME:Coffs Harbour and District Local Aboriginal Land Council
X-ORIGINAL-URL:https://coffsharbourlalc.com.au
X-WR-CALDESC:Events for Coffs Harbour and District Local Aboriginal Land Council
BEGIN:VTIMEZONE
TZID:Australia/Sydney
BEGIN:STANDARD
TZOFFSETFROM:+1100
TZOFFSETTO:+1000
TZNAME:AEST
DTSTART:20200404T160000
END:STANDARD
BEGIN:DAYLIGHT
TZOFFSETFROM:+1000
TZOFFSETTO:+1100
TZNAME:AEDT
DTSTART:20201003T160000
END:DAYLIGHT
END:VTIMEZONE
BEGIN:VEVENT
DTSTART;TZID=Australia/Sydney:20200827T153000
DTEND;TZID=Australia/Sydney:20200827T170000
DTSTAMP:20260421T010725
CREATED:20200824T060459Z
LAST-MODIFIED:20200827T031433Z
UID:2938-1598542200-1598547600@coffsharbourlalc.com.au
SUMMARY:Our Kids Film and Q&A Discussion Webinar
DESCRIPTION:This event is a pre-recorded session of “Our Kid’s Short Video Film and Q&A Session” partnered with Family Law Pathways Coffs Harbour. \nThe session will feature guest speakers Judge Robyn Sexton and Rick Welsh. \nThis event will be streaming via Facebook live on our Facebook page www.facebook.com/CHDLALC \nSee flyer for all details. \n\nFor more information on this Live stream & Webinar contact Wendy Murray on 0481 799 844.\n\n 
URL:https://coffsharbourlalc.com.au/event/our-kids-film-and-qa-discussion-webinar/
END:VEVENT
END:VCALENDAR