BEGIN:VCALENDAR
VERSION:2.0
PRODID:-//Coffs Harbour and District Local Aboriginal Land Council - ECPv5.2.0//NONSGML v1.0//EN
CALSCALE:GREGORIAN
METHOD:PUBLISH
X-WR-CALNAME:Coffs Harbour and District Local Aboriginal Land Council
X-ORIGINAL-URL:https://coffsharbourlalc.com.au
X-WR-CALDESC:Events for Coffs Harbour and District Local Aboriginal Land Council
BEGIN:VTIMEZONE
TZID:Australia/Sydney
BEGIN:STANDARD
TZOFFSETFROM:+1100
TZOFFSETTO:+1000
TZNAME:AEST
DTSTART:20210403T160000
END:STANDARD
BEGIN:DAYLIGHT
TZOFFSETFROM:+1000
TZOFFSETTO:+1100
TZNAME:AEDT
DTSTART:20211002T160000
END:DAYLIGHT
END:VTIMEZONE
BEGIN:VEVENT
DTSTART;TZID=Australia/Sydney:20210707T100000
DTEND;TZID=Australia/Sydney:20210707T140000
DTSTAMP:20260420T220558
CREATED:20210511T051134Z
LAST-MODIFIED:20210511T052221Z
UID:3555-1625652000-1625666400@coffsharbourlalc.com.au
SUMMARY:Planting the Seed Community Day ??
DESCRIPTION:Coffs Harbour and District LALC will be looking to hold another DEADLY NAIDOC Day for our Members and Community. \nThis will be happening Wednesday 7th July 2021 from 10am at Wongala Estate. \nWith many deadly interactive activities suitable for all ages! \nFREE BBQ LUNCH! LIVE Outside Broadcast with OneMob Radio. \nhttps://www.facebook.com/events/308421220694072/
URL:https://coffsharbourlalc.com.au/event/planting-the-seed-community-day-%f0%9f%8c%b1%f0%9f%8c%bf/
LOCATION:Wongala Estate\, Wongala Drive\, Coffs Harbour\, NSW\, 2450\, Australia
GEO:-30.2798726;153.1323352
X-APPLE-STRUCTURED-LOCATION;VALUE=URI;X-ADDRESS=Wongala Estate Wongala Drive Coffs Harbour NSW 2450 Australia;X-APPLE-RADIUS=500;X-TITLE=Wongala Drive:geo:153.1323352,-30.2798726
END:VEVENT
END:VCALENDAR