BEGIN:VCALENDAR
VERSION:2.0
PRODID:-//Coffs Harbour and District Local Aboriginal Land Council - ECPv5.2.0//NONSGML v1.0//EN
CALSCALE:GREGORIAN
METHOD:PUBLISH
X-WR-CALNAME:Coffs Harbour and District Local Aboriginal Land Council
X-ORIGINAL-URL:https://coffsharbourlalc.com.au
X-WR-CALDESC:Events for Coffs Harbour and District Local Aboriginal Land Council
BEGIN:VTIMEZONE
TZID:Australia/Sydney
BEGIN:STANDARD
TZOFFSETFROM:+1100
TZOFFSETTO:+1000
TZNAME:AEST
DTSTART:20210403T160000
END:STANDARD
BEGIN:DAYLIGHT
TZOFFSETFROM:+1000
TZOFFSETTO:+1100
TZNAME:AEDT
DTSTART:20211002T160000
END:DAYLIGHT
END:VTIMEZONE
BEGIN:VEVENT
DTSTART;TZID=Australia/Sydney:20210407T100000
DTEND;TZID=Australia/Sydney:20210407T140000
DTSTAMP:20260420T154958
CREATED:20210401T014354Z
LAST-MODIFIED:20210401T031646Z
UID:3468-1617789600-1617804000@coffsharbourlalc.com.au
SUMMARY:RAP WORKSHOPS ??
DESCRIPTION:Are you interested in Hip-Hop? Would you like to work on your rapping skills? \nCoffs Harbour and District LALC and Interrelate are partnering with Tory Paasi to hold a Rap Workshop! \nThis Workshop will be held on Wednesday 7th April 2021 from 10am at the Grace Roberts Community Hall on Wongala Estate. \nFor More information please email community@coffsharbourlalc.com.au or call 02 6652 8740
URL:https://coffsharbourlalc.com.au/event/rap-workshops/
LOCATION:Grace Roberts Community Hall\, 2/26 Park Ave\, coffs harbour\, NSW\, 2450\, Australia
GEO:-30.2988577;153.1150852
X-APPLE-STRUCTURED-LOCATION;VALUE=URI;X-ADDRESS=Grace Roberts Community Hall 2/26 Park Ave coffs harbour NSW 2450 Australia;X-APPLE-RADIUS=500;X-TITLE=2/26 Park Ave:geo:153.1150852,-30.2988577
END:VEVENT
END:VCALENDAR