BEGIN:VCALENDAR
VERSION:2.0
PRODID:-//Coffs Harbour and District Local Aboriginal Land Council - ECPv5.2.0//NONSGML v1.0//EN
CALSCALE:GREGORIAN
METHOD:PUBLISH
X-WR-CALNAME:Coffs Harbour and District Local Aboriginal Land Council
X-ORIGINAL-URL:https://coffsharbourlalc.com.au
X-WR-CALDESC:Events for Coffs Harbour and District Local Aboriginal Land Council
BEGIN:VTIMEZONE
TZID:Australia/Sydney
BEGIN:STANDARD
TZOFFSETFROM:+1100
TZOFFSETTO:+1000
TZNAME:AEST
DTSTART:20200404T160000
END:STANDARD
BEGIN:DAYLIGHT
TZOFFSETFROM:+1000
TZOFFSETTO:+1100
TZNAME:AEDT
DTSTART:20201003T160000
END:DAYLIGHT
END:VTIMEZONE
BEGIN:VEVENT
DTSTART;TZID=Australia/Sydney:20200707T140000
DTEND;TZID=Australia/Sydney:20200707T160000
DTSTAMP:20260420T155329
CREATED:20200527T041345Z
LAST-MODIFIED:20200527T053658Z
UID:2421-1594130400-1594137600@coffsharbourlalc.com.au
SUMMARY:Real Futures Job Seeker Tips
DESCRIPTION:REAL FUTURES \nHandy Tips for Job Seekers with Real Futures \nVia Zoom from 2pm \nThis session includes: \n\nCover letter writing\nHow to do up a resume\nInterview questions\n\nFor more information about the Calendar of Activities please contact Lachlan Skinner on 0499 902 618 or email community@coffsharbourlalc.com.au \n 
URL:https://coffsharbourlalc.com.au/event/real-futures-job-seeker-tips/
LOCATION:Facebook Live
ORGANIZER;CN="Lachlan%20Skinner":MAILTO:community@coffsharbourlalc.com.au
END:VEVENT
END:VCALENDAR