BEGIN:VCALENDAR
VERSION:2.0
PRODID:-//Coffs Harbour and District Local Aboriginal Land Council - ECPv5.2.0//NONSGML v1.0//EN
CALSCALE:GREGORIAN
METHOD:PUBLISH
X-WR-CALNAME:Coffs Harbour and District Local Aboriginal Land Council
X-ORIGINAL-URL:https://coffsharbourlalc.com.au
X-WR-CALDESC:Events for Coffs Harbour and District Local Aboriginal Land Council
BEGIN:VTIMEZONE
TZID:Australia/Sydney
BEGIN:STANDARD
TZOFFSETFROM:+1100
TZOFFSETTO:+1000
TZNAME:AEST
DTSTART:20210403T160000
END:STANDARD
BEGIN:DAYLIGHT
TZOFFSETFROM:+1000
TZOFFSETTO:+1100
TZNAME:AEDT
DTSTART:20211002T160000
END:DAYLIGHT
END:VTIMEZONE
BEGIN:VEVENT
DTSTART;TZID=Australia/Sydney:20210120T100000
DTEND;TZID=Australia/Sydney:20210120T130000
DTSTAMP:20260420T171152
CREATED:20210115T002023Z
LAST-MODIFIED:20210115T002023Z
UID:3308-1611136800-1611147600@coffsharbourlalc.com.au
SUMMARY:Sports n Sprinklers ??
DESCRIPTION:Coffs Harbour and District LALC are partnering with Interrelate to hold a SPORT and SPRINKLERS DAY!!\nTHATS RIGHT!! Enjoy some sport on the Wongala Basketball Court whilst being cooled down by sprinklers!\nInterrelate will be serving up a deadly feed for all!\nThis is a FREE Aboriginal Community Event! Booking is Desired!!\nHope to see you there! NEXT Wednesday the 20th January from 10am
URL:https://coffsharbourlalc.com.au/event/sports-n-sprinklers-%f0%9f%92%a6%f0%9f%8f%80/
LOCATION:Wongala Estate\, Wongala Drive\, Coffs Harbour\, NSW\, 2450\, Australia
GEO:-30.2798726;153.1323352
X-APPLE-STRUCTURED-LOCATION;VALUE=URI;X-ADDRESS=Wongala Estate Wongala Drive Coffs Harbour NSW 2450 Australia;X-APPLE-RADIUS=500;X-TITLE=Wongala Drive:geo:153.1323352,-30.2798726
END:VEVENT
END:VCALENDAR