BEGIN:VCALENDAR
VERSION:2.0
PRODID:-//Coffs Harbour and District Local Aboriginal Land Council - ECPv5.2.0//NONSGML v1.0//EN
CALSCALE:GREGORIAN
METHOD:PUBLISH
X-WR-CALNAME:Coffs Harbour and District Local Aboriginal Land Council
X-ORIGINAL-URL:https://coffsharbourlalc.com.au
X-WR-CALDESC:Events for Coffs Harbour and District Local Aboriginal Land Council
BEGIN:VTIMEZONE
TZID:Australia/Sydney
BEGIN:STANDARD
TZOFFSETFROM:+1100
TZOFFSETTO:+1000
TZNAME:AEST
DTSTART:20200404T160000
END:STANDARD
BEGIN:DAYLIGHT
TZOFFSETFROM:+1000
TZOFFSETTO:+1100
TZNAME:AEDT
DTSTART:20201003T160000
END:DAYLIGHT
END:VTIMEZONE
BEGIN:VEVENT
DTSTART;TZID=Australia/Sydney:20200716T100000
DTEND;TZID=Australia/Sydney:20200716T120000
DTSTAMP:20260422T192327
CREATED:20200527T045623Z
LAST-MODIFIED:20200527T054525Z
UID:2463-1594893600-1594900800@coffsharbourlalc.com.au
SUMMARY:Story Time in Gumbaynggirr Language
DESCRIPTION:Story Time in Gumbaynggirr Language  \nwith Bularri Muurlay Nyanggan Aboriginal Corporation \nVia Facebook Live from 10am \nFor more information about the Calendar of Activities please contact Lachlan Skinner on 0499 902 618 or email community@coffsharbourlalc.com.au
URL:https://coffsharbourlalc.com.au/event/story-time-in-gumbaynggirr-language-2/
LOCATION:Facebook Live
ORGANIZER;CN="Lachlan%20Skinner":MAILTO:community@coffsharbourlalc.com.au
END:VEVENT
END:VCALENDAR