BEGIN:VCALENDAR
VERSION:2.0
PRODID:-//Coffs Harbour and District Local Aboriginal Land Council - ECPv5.2.0//NONSGML v1.0//EN
CALSCALE:GREGORIAN
METHOD:PUBLISH
X-WR-CALNAME:Coffs Harbour and District Local Aboriginal Land Council
X-ORIGINAL-URL:https://coffsharbourlalc.com.au
X-WR-CALDESC:Events for Coffs Harbour and District Local Aboriginal Land Council
BEGIN:VTIMEZONE
TZID:Australia/Sydney
BEGIN:STANDARD
TZOFFSETFROM:+1100
TZOFFSETTO:+1000
TZNAME:AEST
DTSTART:20200404T160000
END:STANDARD
BEGIN:DAYLIGHT
TZOFFSETFROM:+1000
TZOFFSETTO:+1100
TZNAME:AEDT
DTSTART:20201003T160000
END:DAYLIGHT
END:VTIMEZONE
BEGIN:VEVENT
DTSTART;TZID=Australia/Sydney:20200709T130000
DTEND;TZID=Australia/Sydney:20200709T160000
DTSTAMP:20260420T213750
CREATED:20200527T043047Z
LAST-MODIFIED:20200527T043047Z
UID:2437-1594299600-1594310400@coffsharbourlalc.com.au
SUMMARY:Weaving Session
DESCRIPTION:Weaving Session \nWith Coffs Harbour LALC Face to Face from 1pm \nVia Facebook live. \nWeaving packs available through Coffs Harbour LALC if needed. \nThis event has limited spots available for Face to Face. Once spots are full\, you will only be able to participate online via Facebook Live. \nFor more information about the Calendar of Activities please contact Lachlan Skinner on 0499 902 618 or email community@coffsharbourlalc.com.au
URL:https://coffsharbourlalc.com.au/event/weaving-session/
LOCATION:Wongala Estate\, Wongala Drive\, Coffs Harbour\, NSW\, 2450\, Australia
ORGANIZER;CN="Lachlan%20Skinner":MAILTO:community@coffsharbourlalc.com.au
GEO:-30.2798726;153.1323352
X-APPLE-STRUCTURED-LOCATION;VALUE=URI;X-ADDRESS=Wongala Estate Wongala Drive Coffs Harbour NSW 2450 Australia;X-APPLE-RADIUS=500;X-TITLE=Wongala Drive:geo:153.1323352,-30.2798726
END:VEVENT
END:VCALENDAR