BEGIN:VCALENDAR
VERSION:2.0
PRODID:-//Coffs Harbour and District Local Aboriginal Land Council - ECPv5.2.0//NONSGML v1.0//EN
CALSCALE:GREGORIAN
METHOD:PUBLISH
X-WR-CALNAME:Coffs Harbour and District Local Aboriginal Land Council
X-ORIGINAL-URL:https://coffsharbourlalc.com.au
X-WR-CALDESC:Events for Coffs Harbour and District Local Aboriginal Land Council
BEGIN:VTIMEZONE
TZID:Australia/Sydney
BEGIN:STANDARD
TZOFFSETFROM:+1100
TZOFFSETTO:+1000
TZNAME:AEST
DTSTART:20200404T160000
END:STANDARD
BEGIN:DAYLIGHT
TZOFFSETFROM:+1000
TZOFFSETTO:+1100
TZNAME:AEDT
DTSTART:20201003T160000
END:DAYLIGHT
END:VTIMEZONE
BEGIN:VEVENT
DTSTART;TZID=Australia/Sydney:20200708T100000
DTEND;TZID=Australia/Sydney:20200708T120000
DTSTAMP:20260420T155131
CREATED:20200527T041648Z
LAST-MODIFIED:20200527T052545Z
UID:2425-1594202400-1594209600@coffsharbourlalc.com.au
SUMMARY:Women's Yarning  Circle
DESCRIPTION:Women’s Yarning Circle \nwith Coffs Harbour LALC \nVia Zoom from 10am \n\nSafe space for our men and women to network and yarn openly about future engagements\nThis event has limited spots available for Face to Face. Once spots are full\, you will only be able to participate online via Zoom.\n\nFor more information about the Calendar of Activities please contact Lachlan Skinner on 0499 902 618 or email community@coffsharbourlalc.com.au
URL:https://coffsharbourlalc.com.au/event/womens-yarning-circle/
LOCATION:Galambila AMS\, 9 Boambee Street\, Coffs Harbour\, NSW\, 2450\, Australia
ORGANIZER;CN="Lachlan%20Skinner":MAILTO:community@coffsharbourlalc.com.au
END:VEVENT
END:VCALENDAR