BEGIN:VCALENDAR
VERSION:2.0
PRODID:-//Coffs Harbour and District Local Aboriginal Land Council - ECPv5.2.0//NONSGML v1.0//EN
CALSCALE:GREGORIAN
METHOD:PUBLISH
X-WR-CALNAME:Coffs Harbour and District Local Aboriginal Land Council
X-ORIGINAL-URL:https://coffsharbourlalc.com.au
X-WR-CALDESC:Events for Coffs Harbour and District Local Aboriginal Land Council
BEGIN:VTIMEZONE
TZID:Australia/Sydney
BEGIN:STANDARD
TZOFFSETFROM:+1100
TZOFFSETTO:+1000
TZNAME:AEST
DTSTART:20190406T160000
END:STANDARD
BEGIN:DAYLIGHT
TZOFFSETFROM:+1000
TZOFFSETTO:+1100
TZNAME:AEDT
DTSTART:20191005T160000
END:DAYLIGHT
END:VTIMEZONE
BEGIN:VEVENT
DTSTART;TZID=Australia/Sydney:20191004T100000
DTEND;TZID=Australia/Sydney:20191004T140000
DTSTAMP:20260421T020658
CREATED:20190830T061842Z
LAST-MODIFIED:20190830T062906Z
UID:1627-1570183200-1570197600@coffsharbourlalc.com.au
SUMMARY:Wongala Estate Community Fun Day
DESCRIPTION:A Deadly Day planned for our mob this School Holidays! in partnership with the very Deadly Bularri Muurlay Nyanggan – 2 Path Strong\, Speaking Hour Lingo on CHYFM\, and Northcott! \nWith plenty to do! Arts and Crafts\, Cultural Activities\, A Photo Booth\, Sports on the Basketball Court\, BBQ Lunch and more! \nThis is a Free Community Fun Day happening on Wongala Estate from 10am on 4th October 2019
URL:https://coffsharbourlalc.com.au/event/wongala-estate-community-fun-day/
LOCATION:Wongala Estate\, Wongala Drive\, Coffs Harbour\, NSW\, 2450\, Australia
ORGANIZER;CN="Lachlan%20Skinner":MAILTO:community@coffsharbourlalc.com.au
GEO:-30.2798726;153.1323352
X-APPLE-STRUCTURED-LOCATION;VALUE=URI;X-ADDRESS=Wongala Estate Wongala Drive Coffs Harbour NSW 2450 Australia;X-APPLE-RADIUS=500;X-TITLE=Wongala Drive:geo:153.1323352,-30.2798726
END:VEVENT
END:VCALENDAR