BEGIN:VCALENDAR
VERSION:2.0
PRODID:-//Coffs Harbour and District Local Aboriginal Land Council - ECPv5.2.0//NONSGML v1.0//EN
CALSCALE:GREGORIAN
METHOD:PUBLISH
X-WR-CALNAME:Coffs Harbour and District Local Aboriginal Land Council
X-ORIGINAL-URL:https://coffsharbourlalc.com.au
X-WR-CALDESC:Events for Coffs Harbour and District Local Aboriginal Land Council
BEGIN:VTIMEZONE
TZID:Australia/Sydney
BEGIN:STANDARD
TZOFFSETFROM:+1100
TZOFFSETTO:+1000
TZNAME:AEST
DTSTART:20180331T160000
END:STANDARD
BEGIN:DAYLIGHT
TZOFFSETFROM:+1000
TZOFFSETTO:+1100
TZNAME:AEDT
DTSTART:20181006T160000
END:DAYLIGHT
END:VTIMEZONE
BEGIN:VEVENT
DTSTART;TZID=Australia/Sydney:20181008T090000
DTEND;TZID=Australia/Sydney:20181008T110000
DTSTAMP:20260425T131055
CREATED:20180918T223155Z
LAST-MODIFIED:20180918T223155Z
UID:552-1538989200-1538996400@coffsharbourlalc.com.au
SUMMARY:Beginners Gumbaynggirr Language Classe
DESCRIPTION:We would like to invite All CHDLALC Members\, Tenants and Community Members to the our Beginners Gumbaynggirr Language Classes at Grace Roberts Community Hall\, Wongala Estate. \nFor More Information Please Contact the LALC Office on 02 6652 8740
URL:https://coffsharbourlalc.com.au/event/beginners-gumbaynggirr-language-classe-2/
LOCATION:Grace Roberts Community Hall\, 2/26 Park Ave\, coffs harbour\, NSW\, 2450\, Australia
GEO:-30.2988577;153.1150852
X-APPLE-STRUCTURED-LOCATION;VALUE=URI;X-ADDRESS=Grace Roberts Community Hall 2/26 Park Ave coffs harbour NSW 2450 Australia;X-APPLE-RADIUS=500;X-TITLE=2/26 Park Ave:geo:153.1150852,-30.2988577
END:VEVENT
END:VCALENDAR