BEGIN:VCALENDAR
VERSION:2.0
PRODID:-//Coffs Harbour and District Local Aboriginal Land Council - ECPv5.2.0//NONSGML v1.0//EN
CALSCALE:GREGORIAN
METHOD:PUBLISH
X-WR-CALNAME:Coffs Harbour and District Local Aboriginal Land Council
X-ORIGINAL-URL:https://coffsharbourlalc.com.au
X-WR-CALDESC:Events for Coffs Harbour and District Local Aboriginal Land Council
BEGIN:VTIMEZONE
TZID:Australia/Sydney
BEGIN:STANDARD
TZOFFSETFROM:+1100
TZOFFSETTO:+1000
TZNAME:AEST
DTSTART:20180331T160000
END:STANDARD
BEGIN:DAYLIGHT
TZOFFSETFROM:+1000
TZOFFSETTO:+1100
TZNAME:AEDT
DTSTART:20181006T160000
END:DAYLIGHT
END:VTIMEZONE
BEGIN:VEVENT
DTSTART;TZID=Australia/Sydney:20181114T100000
DTEND;TZID=Australia/Sydney:20181114T120000
DTSTAMP:20260425T111628
CREATED:20181018T224022Z
LAST-MODIFIED:20181018T224022Z
UID:883-1542189600-1542196800@coffsharbourlalc.com.au
SUMMARY:PACC Meeting
DESCRIPTION:Police Aboriginal Consultative Committee will be meeting on the 17th November 2018 from 10am at the Grace Roberts Community Hall. \nEveryone welcome to attend this meeting.
URL:https://coffsharbourlalc.com.au/event/pacc-meeting/
LOCATION:Grace Roberts Community Hall\, 2/26 Park Ave\, coffs harbour\, NSW\, 2450\, Australia
ORGANIZER;CN="Kevin%20Wilson":MAILTO:Wils1kev@police.nsw.gov.au
GEO:-30.2988577;153.1150852
X-APPLE-STRUCTURED-LOCATION;VALUE=URI;X-ADDRESS=Grace Roberts Community Hall 2/26 Park Ave coffs harbour NSW 2450 Australia;X-APPLE-RADIUS=500;X-TITLE=2/26 Park Ave:geo:153.1150852,-30.2988577
END:VEVENT
END:VCALENDAR