BEGIN:VCALENDAR
VERSION:2.0
PRODID:-//Coffs Harbour and District Local Aboriginal Land Council - ECPv5.2.0//NONSGML v1.0//EN
CALSCALE:GREGORIAN
METHOD:PUBLISH
X-WR-CALNAME:Coffs Harbour and District Local Aboriginal Land Council
X-ORIGINAL-URL:https://coffsharbourlalc.com.au
X-WR-CALDESC:Events for Coffs Harbour and District Local Aboriginal Land Council
BEGIN:VTIMEZONE
TZID:Australia/Sydney
BEGIN:STANDARD
TZOFFSETFROM:+1100
TZOFFSETTO:+1000
TZNAME:AEST
DTSTART:20180331T160000
END:STANDARD
BEGIN:DAYLIGHT
TZOFFSETFROM:+1000
TZOFFSETTO:+1100
TZNAME:AEDT
DTSTART:20181006T160000
END:DAYLIGHT
END:VTIMEZONE
BEGIN:VEVENT
DTSTART;TZID=Australia/Sydney:20181215T100000
DTEND;TZID=Australia/Sydney:20181215T140000
DTSTAMP:20260425T094539
CREATED:20181103T100505Z
LAST-MODIFIED:20181103T100505Z
UID:972-1544868000-1544882400@coffsharbourlalc.com.au
SUMMARY:Community Christmas Party
DESCRIPTION:On Saturday 15th of December we will be holding a Wongala Estate Street Party for the Annual Community Christmas Party. In partnership with Coffs Harbour Aboriginal Social Events and Ready Mob it will be a deadly day of activities.
URL:https://coffsharbourlalc.com.au/event/community-christmas-party/
LOCATION:Wongala Estate\, Wongala Drive\, Coffs Harbour\, NSW\, 2450\, Australia
ORGANIZER;CN="Lachlan%20Skinner":MAILTO:community@coffsharbourlalc.com.au
GEO:-30.2798726;153.1323352
X-APPLE-STRUCTURED-LOCATION;VALUE=URI;X-ADDRESS=Wongala Estate Wongala Drive Coffs Harbour NSW 2450 Australia;X-APPLE-RADIUS=500;X-TITLE=Wongala Drive:geo:153.1323352,-30.2798726
END:VEVENT
END:VCALENDAR