BEGIN:VCALENDAR
VERSION:2.0
PRODID:-//Coffs Harbour and District Local Aboriginal Land Council - ECPv5.2.0//NONSGML v1.0//EN
CALSCALE:GREGORIAN
METHOD:PUBLISH
X-WR-CALNAME:Coffs Harbour and District Local Aboriginal Land Council
X-ORIGINAL-URL:https://coffsharbourlalc.com.au
X-WR-CALDESC:Events for Coffs Harbour and District Local Aboriginal Land Council
BEGIN:VTIMEZONE
TZID:Australia/Sydney
BEGIN:STANDARD
TZOFFSETFROM:+1100
TZOFFSETTO:+1000
TZNAME:AEST
DTSTART:20190406T160000
END:STANDARD
BEGIN:DAYLIGHT
TZOFFSETFROM:+1000
TZOFFSETTO:+1100
TZNAME:AEDT
DTSTART:20191005T160000
END:DAYLIGHT
END:VTIMEZONE
BEGIN:VEVENT
DTSTART;TZID=Australia/Sydney:20190107T080000
DTEND;TZID=Australia/Sydney:20190107T170000
DTSTAMP:20260425T074435
CREATED:20181210T001437Z
LAST-MODIFIED:20181210T001437Z
UID:1054-1546848000-1546880400@coffsharbourlalc.com.au
SUMMARY:Coffs Harbour and District LALC Office Reopened
DESCRIPTION:
URL:https://coffsharbourlalc.com.au/event/coffs-harbour-and-district-lalc-office-reopened/
LOCATION:Coffs Harbour and District LALC\, 2 Wongala Estate\, Coffs Harbour\, NSW\, 2450\, Australia
ORGANIZER;CN="Lachlan%20Skinner":MAILTO:community@coffsharbourlalc.com.au
GEO:-30.2798726;153.1323352
X-APPLE-STRUCTURED-LOCATION;VALUE=URI;X-ADDRESS=Coffs Harbour and District LALC 2 Wongala Estate Coffs Harbour NSW 2450 Australia;X-APPLE-RADIUS=500;X-TITLE=2 Wongala Estate:geo:153.1323352,-30.2798726
END:VEVENT
END:VCALENDAR