BEGIN:VCALENDAR
VERSION:2.0
PRODID:-//Coffs Harbour and District Local Aboriginal Land Council - ECPv5.2.0//NONSGML v1.0//EN
CALSCALE:GREGORIAN
METHOD:PUBLISH
X-WR-CALNAME:Coffs Harbour and District Local Aboriginal Land Council
X-ORIGINAL-URL:https://coffsharbourlalc.com.au
X-WR-CALDESC:Events for Coffs Harbour and District Local Aboriginal Land Council
BEGIN:VTIMEZONE
TZID:Australia/Sydney
BEGIN:STANDARD
TZOFFSETFROM:+1100
TZOFFSETTO:+1000
TZNAME:AEST
DTSTART:20190406T160000
END:STANDARD
BEGIN:DAYLIGHT
TZOFFSETFROM:+1000
TZOFFSETTO:+1100
TZNAME:AEDT
DTSTART:20191005T160000
END:DAYLIGHT
END:VTIMEZONE
BEGIN:VEVENT
DTSTART;TZID=Australia/Sydney:20190220T120000
DTEND;TZID=Australia/Sydney:20190220T140000
DTSTAMP:20260425T053026
CREATED:20190206T042723Z
LAST-MODIFIED:20190206T042908Z
UID:1177-1550664000-1550671200@coffsharbourlalc.com.au
SUMMARY:Urunga Aboriginal Community Meeting
DESCRIPTION:Giinagay Aboriginal Community Members of Urunga\, \nWe would like to invite you to a round table discussion about the Coffs Harbour and District LALC and future engagement with the local Community. \nRSVP Required: Contact Coffs Harbour and District LALC on 02 6652 8740 (For Catering Purposes)
URL:https://coffsharbourlalc.com.au/event/urunga-aboriginal-community-meeting/
LOCATION:Urunga Neighbourhood Centre\, 34 Bonville Street\, Urunga\, NSW\, 2455\, Australia
ORGANIZER;CN="Lachlan%20Skinner":MAILTO:community@coffsharbourlalc.com.au
GEO:-30.4969683;153.0210363
X-APPLE-STRUCTURED-LOCATION;VALUE=URI;X-ADDRESS=Urunga Neighbourhood Centre 34 Bonville Street Urunga NSW 2455 Australia;X-APPLE-RADIUS=500;X-TITLE=34 Bonville Street:geo:153.0210363,-30.4969683
END:VEVENT
END:VCALENDAR