BEGIN:VCALENDAR
VERSION:2.0
PRODID:-//Coffs Harbour and District Local Aboriginal Land Council - ECPv5.2.0//NONSGML v1.0//EN
CALSCALE:GREGORIAN
METHOD:PUBLISH
X-WR-CALNAME:Coffs Harbour and District Local Aboriginal Land Council
X-ORIGINAL-URL:https://coffsharbourlalc.com.au
X-WR-CALDESC:Events for Coffs Harbour and District Local Aboriginal Land Council
BEGIN:VTIMEZONE
TZID:Australia/Sydney
BEGIN:STANDARD
TZOFFSETFROM:+1100
TZOFFSETTO:+1000
TZNAME:AEST
DTSTART:20200404T160000
END:STANDARD
BEGIN:DAYLIGHT
TZOFFSETFROM:+1000
TZOFFSETTO:+1100
TZNAME:AEDT
DTSTART:20201003T160000
END:DAYLIGHT
END:VTIMEZONE
BEGIN:VEVENT
DTSTART;TZID=Australia/Sydney:20200220T103000
DTEND;TZID=Australia/Sydney:20200220T130000
DTSTAMP:20260426T045013
CREATED:20200213T221624Z
LAST-MODIFIED:20200213T225009Z
UID:2293-1582194600-1582203600@coffsharbourlalc.com.au
SUMMARY:Ngurrala Family Safety Services Community Engagement Day
DESCRIPTION:Ngurrala Family Safety Services invites you to our Men’s “My Gagu” Behavioural Change Program. Community Engagement Day. \nOur Program is available for Aboriginal men aged 18+ living in the Coffs Shire and surrounding areas. \nThere will be a BBQ lunch provided. \n  \nTime: 10:30am-1:00pm \nDate: Thursday\, 20 February 2020 \nLocation: Coffs Harbour & District Local Aboriginal Land Council \n 
URL:https://coffsharbourlalc.com.au/event/ngurrala-family-safety-services-community-engagement-day/
LOCATION:Grace Roberts Community Hall\, 2/26 Park Ave\, coffs harbour\, NSW\, 2450\, Australia
ATTACH;FMTTYPE=image/jpeg:https://coffsharbourlalc.com.au/wp-content/uploads/2020/02/84594652_970751729987880_5740746797861568512_o.jpg
GEO:-30.2988577;153.1150852
X-APPLE-STRUCTURED-LOCATION;VALUE=URI;X-ADDRESS=Grace Roberts Community Hall 2/26 Park Ave coffs harbour NSW 2450 Australia;X-APPLE-RADIUS=500;X-TITLE=2/26 Park Ave:geo:153.1150852,-30.2988577
END:VEVENT
BEGIN:VEVENT
DTSTART;TZID=Australia/Sydney:20200220T133000
DTEND;TZID=Australia/Sydney:20200220T163000
DTSTAMP:20260426T045013
CREATED:20200213T224806Z
LAST-MODIFIED:20200213T224806Z
UID:2304-1582205400-1582216200@coffsharbourlalc.com.au
SUMMARY:2020 NSW Knockout Health Challenge Registrations
DESCRIPTION:2020 NSW Knockout Health Challenge is a 10- week program running from the 30th March to the 5th June 2020. \nFree registration and participation. \nRegistration days \n20 and 27 February 2020 \n1:30pm-4:30pm at Galambila  AMS \n  \nChallenge run by Mid North Coast Local Health District\, Ready Mob and Training will be run by Beachbodies Health Club.
URL:https://coffsharbourlalc.com.au/event/2020-nsw-knockout-health-challenge-registrations/
LOCATION:Galambila AMS\, 9 Boambee Street\, Coffs Harbour\, NSW\, 2450\, Australia
ATTACH;FMTTYPE=image/png:https://coffsharbourlalc.com.au/wp-content/uploads/2020/02/Health-Challenge.png
END:VEVENT
END:VCALENDAR