BEGIN:VCALENDAR
VERSION:2.0
PRODID:-//Coffs Harbour and District Local Aboriginal Land Council - ECPv5.2.0//NONSGML v1.0//EN
CALSCALE:GREGORIAN
METHOD:PUBLISH
X-WR-CALNAME:Coffs Harbour and District Local Aboriginal Land Council
X-ORIGINAL-URL:https://coffsharbourlalc.com.au
X-WR-CALDESC:Events for Coffs Harbour and District Local Aboriginal Land Council
BEGIN:VTIMEZONE
TZID:Australia/Sydney
BEGIN:STANDARD
TZOFFSETFROM:+1100
TZOFFSETTO:+1000
TZNAME:AEST
DTSTART:20200404T160000
END:STANDARD
BEGIN:DAYLIGHT
TZOFFSETFROM:+1000
TZOFFSETTO:+1100
TZNAME:AEDT
DTSTART:20201003T160000
END:DAYLIGHT
END:VTIMEZONE
BEGIN:VEVENT
DTSTART;TZID=Australia/Sydney:20200706T100000
DTEND;TZID=Australia/Sydney:20200706T110000
DTSTAMP:20260426T135904
CREATED:20200527T035136Z
LAST-MODIFIED:20200527T053039Z
UID:2411-1594029600-1594033200@coffsharbourlalc.com.au
SUMMARY:Flag Raising Ceremony
DESCRIPTION:Flag Raising Ceremony \nWith Coffs Harbour City Council and the Yandarra Aboriginal Advisory Committee \nvia Facebook Live from 10am \nFor more information about the Calendar of Activities please contact Lachlan Skinner on 0499 902 618 or email community@coffsharbourlalc.com.au
URL:https://coffsharbourlalc.com.au/event/flag-raising-ceremony/
LOCATION:Facebook Live
ORGANIZER;CN="Richard%20Widders":MAILTO:richard.widders@chcc.nsw.gov.au
END:VEVENT
BEGIN:VEVENT
DTSTART;TZID=Australia/Sydney:20200706T110000
DTEND;TZID=Australia/Sydney:20200706T130000
DTSTAMP:20260426T135904
CREATED:20200527T040000Z
LAST-MODIFIED:20200527T052949Z
UID:2415-1594033200-1594040400@coffsharbourlalc.com.au
SUMMARY:Didgeridoo Workshops
DESCRIPTION:Didgeridoo Workshops \nWith Ready Mob \nVia Zoom from 11am \n\nThis event has limited spots available for Face to Face. Once spots are full\, you will only be able to participate online via Zoom.\n\nFor more information about the Calendar of Activities please contact Lachlan Skinner on 0499 902 618 or email community@coffsharbourlalc.com.au
URL:https://coffsharbourlalc.com.au/event/didgeridoo-workshops/
LOCATION:Galambila AMS\, 9 Boambee Street\, Coffs Harbour\, NSW\, 2450\, Australia
END:VEVENT
BEGIN:VEVENT
DTSTART;TZID=Australia/Sydney:20200706T163000
DTEND;TZID=Australia/Sydney:20200706T173000
DTSTAMP:20260426T135904
CREATED:20200527T040325Z
LAST-MODIFIED:20200527T053334Z
UID:2417-1594053000-1594056600@coffsharbourlalc.com.au
SUMMARY:Speaking Hour Lingo LIVE
DESCRIPTION:With the speaking Hour Lingo Crew & CHYFM \nVia Facebook Live from 4:30pm \n\nThis Session includes a LIVE Stream of the Coffs Harbour’s Goori Radio Program on 104.1 CHYFM\nHosted by Lockie Skinner and Tyson Morris\n\n  \nFor more information about the Calendar of Activities please contact Lachlan Skinner on 0499 902 618 or email community@coffsharbourlalc.com.au
URL:https://coffsharbourlalc.com.au/event/speaking-hour-lingo-live/
LOCATION:Facebook Live
ORGANIZER;CN="Lachlan%20Skinner":MAILTO:community@coffsharbourlalc.com.au
END:VEVENT
END:VCALENDAR