BEGIN:VCALENDAR
VERSION:2.0
PRODID:-//Coffs Harbour and District Local Aboriginal Land Council - ECPv5.2.0//NONSGML v1.0//EN
CALSCALE:GREGORIAN
METHOD:PUBLISH
X-WR-CALNAME:Coffs Harbour and District Local Aboriginal Land Council
X-ORIGINAL-URL:https://coffsharbourlalc.com.au
X-WR-CALDESC:Events for Coffs Harbour and District Local Aboriginal Land Council
BEGIN:VTIMEZONE
TZID:Australia/Sydney
BEGIN:STANDARD
TZOFFSETFROM:+1100
TZOFFSETTO:+1000
TZNAME:AEST
DTSTART:20200404T160000
END:STANDARD
BEGIN:DAYLIGHT
TZOFFSETFROM:+1000
TZOFFSETTO:+1100
TZNAME:AEDT
DTSTART:20201003T160000
END:DAYLIGHT
END:VTIMEZONE
BEGIN:VEVENT
DTSTART;TZID=Australia/Sydney:20200717T100000
DTEND;TZID=Australia/Sydney:20200717T150000
DTSTAMP:20260426T135054
CREATED:20200701T140056Z
LAST-MODIFIED:20200701T235216Z
UID:2693-1594980000-1594998000@coffsharbourlalc.com.au
SUMMARY:Cyber Safety for Young People Workshop
DESCRIPTION:Cyber Safety for Young People – 13 years and up! \nFrom: 10am \nLocation: Wongala Estate \nWith Coffs Harbour Police and Coffs Harbour District & Local Aboriginal Land Council \n\nFace to Face
URL:https://coffsharbourlalc.com.au/event/cyber-safety-for-young-people-workshop/
LOCATION:Wongala Estate\, Wongala Drive\, Coffs Harbour\, NSW\, 2450\, Australia
GEO:-30.2798726;153.1323352
X-APPLE-STRUCTURED-LOCATION;VALUE=URI;X-ADDRESS=Wongala Estate Wongala Drive Coffs Harbour NSW 2450 Australia;X-APPLE-RADIUS=500;X-TITLE=Wongala Drive:geo:153.1323352,-30.2798726
END:VEVENT
BEGIN:VEVENT
DTSTART;TZID=Australia/Sydney:20200717T130000
DTEND;TZID=Australia/Sydney:20200717T160000
DTSTAMP:20260426T135054
CREATED:20200527T050218Z
LAST-MODIFIED:20200602T051608Z
UID:2467-1594990800-1595001600@coffsharbourlalc.com.au
SUMMARY:Weaving Session
DESCRIPTION:Weaving Session \nwith Coffs Harbour LALC \nFrom 1pm \n\nFace to Face with Limited to 10 people\nThis session will be run by Rachael Cavanagh and if you miss out on a spot it will also include the option of Facebook Live.\nWeaving packs available through Coffs Harbour LALC if needed.\nThis event has limited spots available for Face to Face. Once spots are full\, you will only be able to participate online via Facebook Live.\n\nFor more information about the Calendar of Activities please contact Lachlan Skinner on 0499 902 618 or email community@coffsharbourlalc.com.au \n 
URL:https://coffsharbourlalc.com.au/event/weaving-session-2/
LOCATION:Wongala Estate\, Wongala Drive\, Coffs Harbour\, NSW\, 2450\, Australia
ATTACH;FMTTYPE=image/png:https://coffsharbourlalc.com.au/wp-content/uploads/2020/05/Green-Floral-Illustration-Spa-Valentines-Day-Instagram-Post.png
ORGANIZER;CN="Lachlan%20Skinner":MAILTO:community@coffsharbourlalc.com.au
GEO:-30.2798726;153.1323352
X-APPLE-STRUCTURED-LOCATION;VALUE=URI;X-ADDRESS=Wongala Estate Wongala Drive Coffs Harbour NSW 2450 Australia;X-APPLE-RADIUS=500;X-TITLE=Wongala Drive:geo:153.1323352,-30.2798726
END:VEVENT
BEGIN:VEVENT
DTSTART;TZID=Australia/Sydney:20200717T130000
DTEND;TZID=Australia/Sydney:20200717T150000
DTSTAMP:20260426T135054
CREATED:20200527T050622Z
LAST-MODIFIED:20200602T045147Z
UID:2470-1594990800-1594998000@coffsharbourlalc.com.au
SUMMARY:Story Telling through Film Making and Editing Workshop
DESCRIPTION:Story Telling through Film Making and Editing Workshop  \nwith Ash Gibb and the Coffs Harbour LALC \nvia Zoom\, From 1pm \n\nThis session includes Beginners session on Film Making and Editing.\nThis event has limited spots available for Face to Face. Once spots are full\, you will only be able to participate online via Zoom.\n\nFor more information about the Calendar of Activities please contact Lachlan Skinner on 0499 902 618 or email community@coffsharbourlalc.com.au
URL:https://coffsharbourlalc.com.au/event/story-telling-through-film-making-and-editing-workshop-2/
LOCATION:Grace Roberts Community Hall\, 2/26 Park Ave\, coffs harbour\, NSW\, 2450\, Australia
ATTACH;FMTTYPE=image/png:https://coffsharbourlalc.com.au/wp-content/uploads/2020/05/Yellow-and-Orange-Illustrated-Movie-Night-Flyer.png
ORGANIZER;CN="Lachlan%20Skinner":MAILTO:community@coffsharbourlalc.com.au
GEO:-30.2988577;153.1150852
X-APPLE-STRUCTURED-LOCATION;VALUE=URI;X-ADDRESS=Grace Roberts Community Hall 2/26 Park Ave coffs harbour NSW 2450 Australia;X-APPLE-RADIUS=500;X-TITLE=2/26 Park Ave:geo:153.1150852,-30.2988577
END:VEVENT
END:VCALENDAR